BEGIN:VCALENDAR
VERSION:2.0
PRODID:-//eventon.com NONSGML v1.0//EN
CALSCALE:GREGORIAN
METHOD:PUBLISH
BEGIN:VEVENT
UID:69e73bf7c7ddf
DTSTAMP:20260421T085727Z
DTSTART:20260315T120000Z
DTEND:20260315T225900Z
LOCATION:
SUMMARY:Mothering Sunday
DESCRIPTION:Treat Mother to something truly special this year for UK Mother
 &#8217;s Day at The Geranium! Join us on Sunday\,  March 15th\,  for a fabu
 lous 5-course Sunday Lunch crafted by Chef Steven Saunders. Featuring our s
 election of prime meats carved right from the trolley and exquisite dessert
 s\,  it&#8217;s the perfect way[..]\nhttps://thenewgeranium.com/events/moth
 ering-sunday/
URL:https://thenewgeranium.com/events/mothering-sunday/
END:VEVENT
END:VCALENDAR