BEGIN:VCALENDAR
VERSION:2.0
PRODID:-//eventon.com NONSGML v1.0//EN
CALSCALE:GREGORIAN
METHOD:PUBLISH
BEGIN:VEVENT
UID:69e78d6039f48
DTSTAMP:20260421T144448Z
DTSTART:20260317
DTEND:20260318
LOCATION:
SUMMARY:St Patricks Day Menu
DESCRIPTION:Get ready for a taste of Ireland! ☘️ This St. Patrick&#8217
 ;s Day (March 17th)\,  we are serving a spectacular 5-course menu accompani
 ed by live Irish music. Available for lunch or dinner at just 79€. Spaces
  are limited\,  so book your table now and let the celebrations begin!\nhtt
 ps://thenewgeranium.com/events/st-patricks-day-menu/
URL:https://thenewgeranium.com/events/st-patricks-day-menu/
END:VEVENT
END:VCALENDAR